BEGIN:VCALENDAR
VERSION:2.0
PRODID:icalendar-ruby
CALSCALE:GREGORIAN
BEGIN:VEVENT
DTSTAMP:20260423T212611Z
UID:9b9d1ddb-3714-4061-82b7-c6bb3b268e35
DTSTART;VALUE=DATE:20200213
DESCRIPTION:Property ID# 470448\, Locatoin: Harcourts Paremata at 5pm (not 
 selling prior)\, Time: 12:00PM
SUMMARY:Auction for 
END:VEVENT
END:VCALENDAR
